BEGIN:VCALENDAR
VERSION:2.0
PRODID:-//eventon.com NONSGML v1.0//EN
BEGIN:VEVENT
UID:69e7a55945ecc
DTSTAMP:20260421T182705
DTSTART:20230603T220000Z
DTEND:20230604T215900Z
LOCATION:Oetinger Villa Kranichsteiner Str. 81\,  64289 Darmstadt
SUMMARY:Darmstadt | Oetinger Villa (+ Filmgespräch)
DESCRIPTION: Am 4. Juni läuft Freie Räume im Jugendkulturzentrum Oetinger Villa in Darmstadt. Küche für alle ab 19 Uhr. Film ab 20 Uhr. freier Eintritt
END:VEVENT
END:VCALENDAR