BEGIN:VCALENDAR
VERSION:2.0
PRODID:-//eventon.com NONSGML v1.0//EN
BEGIN:VEVENT
UID:69ecec39648b9
DTSTAMP:20260425T183049
DTSTART:20201009T183000Z
DTEND:20201009T203000Z
LOCATION:Traumathek Engelbertstrasse 45\,  50674 Köln
SUMMARY:Köln | Traumathek
DESCRIPTION: Freie Räume ist am 09.10. im Rahmen der Reihe "Politischer Widerstand" in der Traumathek zu sehen.
END:VEVENT
END:VCALENDAR